BEGIN:VCALENDAR
VERSION:2.0
PRODID:-//Drupal iCal API//EN
X-WR-CALNAME:Events items teaser
X-WR-TIMEZONE:America/Toronto
BEGIN:VTIMEZONE
TZID:America/Toronto
X-LIC-LOCATION:America/Toronto
BEGIN:DAYLIGHT
TZNAME:EDT
TZOFFSETFROM:-0500
TZOFFSETTO:-0400
DTSTART:20120311T070000
END:DAYLIGHT
BEGIN:STANDARD
TZNAME:EST
TZOFFSETFROM:-0400
TZOFFSETTO:-0500
DTSTART:20111106T060000
END:STANDARD
END:VTIMEZONE
BEGIN:VEVENT
UID:69e9284207e3b
DTSTART;TZID=America/Toronto:20121027T190000
SEQUENCE:0
TRANSP:TRANSPARENT
DTEND;TZID=America/Toronto:20121027T190000
URL:https://uwaterloo.ca/alumni/events/3rd-annual-across-creek-event
LOCATION:Festival Theatre in Stratford 55 Queen St. Stratford ON N5A 6V2 Ca
 nada
SUMMARY:3rd Annual Across the Creek Event
CLASS:PUBLIC
DESCRIPTION:[matchmaker] Join alumni from Conrad Grebel University College\
 ,\nRenison University College\, St. Jerome’s University and St. Paul’s
 \nUniversity College from “across-the-creek” for an evening of fun\na
 nd theatre in Stratford\, Ontario enjoying the play _THE MATCHMAKER_.
DTSTAMP:20260422T195754Z
END:VEVENT
END:VCALENDAR