BEGIN:VCALENDAR
VERSION:2.0
PRODID:-//Drupal iCal API//EN
X-WR-CALNAME:Events items teaser
X-WR-TIMEZONE:America/Toronto
BEGIN:VTIMEZONE
TZID:America/Toronto
X-LIC-LOCATION:America/Toronto
BEGIN:DAYLIGHT
TZNAME:EDT
TZOFFSETFROM:-0500
TZOFFSETTO:-0400
DTSTART:20120311T070000
END:DAYLIGHT
BEGIN:STANDARD
TZNAME:EST
TZOFFSETFROM:-0400
TZOFFSETTO:-0500
DTSTART:20121104T060000
END:STANDARD
END:VTIMEZONE
BEGIN:VEVENT
UID:69e98de45abac
DTSTART;TZID=Asia/Hong_Kong:20121110T180000
SEQUENCE:0
TRANSP:TRANSPARENT
DTEND;TZID=Asia/Hong_Kong:20121110T220000
URL:https://uwaterloo.ca/alumni/events/hknetworking-dinner
LOCATION:Regal Kowloon Hotel 71 Mody Road Tsimshatsui Hong Kong SAR China
SUMMARY:Annual Hong Kong Alumni Networking Dinner
CLASS:PUBLIC
DESCRIPTION:UWAAHK (UNIVERSITY OF WATERLOO ALUMNI ASSOCIATION HONG KONG)\n\
 n [hotel] On Saturday\, November 10th the Hong Kong Alumni Association\nwi
 ll host their annual Alumni Networking Dinner in Hong Kong.\n\nThe event w
 ill also be attended by University of Waterloo staff\, and\nfaculty.\n\n--
 -----------------------\n\nTICKETS ARE:
DTSTAMP:20260423T031132Z
END:VEVENT
END:VCALENDAR