BEGIN:VCALENDAR
VERSION:2.0
PRODID:-//Drupal iCal API//EN
X-WR-CALNAME:Events items teaser
X-WR-TIMEZONE:America/Toronto
BEGIN:VTIMEZONE
TZID:America/Toronto
X-LIC-LOCATION:America/Toronto
BEGIN:DAYLIGHT
TZNAME:EDT
TZOFFSETFROM:-0500
TZOFFSETTO:-0400
DTSTART:20120311T070000
END:DAYLIGHT
BEGIN:STANDARD
TZNAME:EST
TZOFFSETFROM:-0400
TZOFFSETTO:-0500
DTSTART:20121104T060000
END:STANDARD
END:VTIMEZONE
BEGIN:VEVENT
UID:69e9a4ad6b430
DTSTART;TZID=Asia/Shanghai:20121107T183000
SEQUENCE:0
TRANSP:TRANSPARENT
DTEND;TZID=Asia/Shanghai:20121107T203000
URL:https://uwaterloo.ca/alumni/shanghailaunch
LOCATION:Malone’s American Café 255 Tongren Rd. Shanghai 31\, China
SUMMARY:Shanghai Chapter Launch and Networking Reception
CLASS:PUBLIC
DESCRIPTION:[malones] The uWaterloo Shanghai Alumni Chapter is inviting you
  to\nattend our official Chapter Launch and an evening of networking.\n\nR
 econnect with old friends and get updates from campus!\n\nAttending this y
 ear will be:
DTSTAMP:20260423T044845Z
END:VEVENT
END:VCALENDAR