BEGIN:VCALENDAR
VERSION:2.0
PRODID:-//Drupal iCal API//EN
X-WR-CALNAME:Events items teaser
X-WR-TIMEZONE:America/Toronto
BEGIN:VTIMEZONE
TZID:America/Toronto
X-LIC-LOCATION:America/Toronto
BEGIN:DAYLIGHT
TZNAME:EDT
TZOFFSETFROM:-0500
TZOFFSETTO:-0400
DTSTART:20130310T070000
END:DAYLIGHT
BEGIN:STANDARD
TZNAME:EST
TZOFFSETFROM:-0400
TZOFFSETTO:-0500
DTSTART:20121104T060000
END:STANDARD
END:VTIMEZONE
BEGIN:VEVENT
UID:69e9a4ae65678
DTSTART;TZID=America/Toronto:20130509T180000
SEQUENCE:0
TRANSP:TRANSPARENT
DTEND;TZID=America/Toronto:20130509T200000
URL:https://uwaterloo.ca/alumni/events/pre-screening
LOCATION:Capitol Event Theatre 2492 Yonge Street Toronto ON M4P 2H7 Canada
SUMMARY:Waterloo Alumni Reception with Exclusive Documentary Pre-screening
CLASS:PUBLIC
DESCRIPTION:The Office of Alumni Affairs invites alumni from all faculties 
 to an\nexclusive screening of the new documentary The Cola Road\n[https://
 www.facebook.com/TheColaRoad]\, featuring the work of AHS\nalumnus Rohit R
 amchandani (BSc ’04). Rohit is the founder and\nprincipal at Antara Glob
 al Health Advisors\, Doctor of Public Health\n(DrPH) candidate at Johns Ho
 pkins Bloomberg School of Public Health\nand an adjunct faculty member in 
 the School of Public Health and\nHealth Systems at uWaterloo.
DTSTAMP:20260423T044846Z
END:VEVENT
END:VCALENDAR