BEGIN:VCALENDAR
VERSION:2.0
PRODID:-//Drupal iCal API//EN
X-WR-CALNAME:Events items teaser
X-WR-TIMEZONE:America/Toronto
BEGIN:VTIMEZONE
TZID:America/Toronto
X-LIC-LOCATION:America/Toronto
BEGIN:DAYLIGHT
TZNAME:EDT
TZOFFSETFROM:-0500
TZOFFSETTO:-0400
DTSTART:20150308T070000
END:DAYLIGHT
BEGIN:STANDARD
TZNAME:EST
TZOFFSETFROM:-0400
TZOFFSETTO:-0500
DTSTART:20151101T060000
END:STANDARD
END:VTIMEZONE
BEGIN:VEVENT
UID:69e84a258466b
DTSTART;TZID=America/Toronto:20160116T130000
SEQUENCE:0
TRANSP:TRANSPARENT
DTEND;TZID=America/Toronto:20160116T130000
URL:https://uwaterloo.ca/alumni/events/fantastic-alumni-faculty-and-staff-d
 ay-0
LOCATION:Physical Activities Complex (PAC) Main Gym 200 University Avenue W
 est Waterloo ON N2L 3G1 Canada
SUMMARY:Fantastic Alumni\, Faculty and Staff Day
CLASS:PUBLIC
DESCRIPTION:[Fantastic Alumni Day logo with basketball players]\n\nCheer fo
 r the Waterloo Warriors [http://warriors.uwaterloo.ca/] at the\n17th annu
 al Fantastic Alumni\, Faculty\, Staff and Retiree Day as the\nmen’s and 
 women’s basketball teams take on the Brock Badgers.\n\nCheck out last ye
 ar's video\n[https://www.youtube.com/watch?v=EUMTqYjNptQ] for a preview of
  all the\nfun!
DTSTAMP:20260422T041013Z
END:VEVENT
END:VCALENDAR