BEGIN:VCALENDAR
VERSION:2.0
PRODID:-//Drupal iCal API//EN
X-WR-CALNAME:Events items teaser
X-WR-TIMEZONE:America/Toronto
BEGIN:VTIMEZONE
TZID:America/Toronto
X-LIC-LOCATION:America/Toronto
BEGIN:DAYLIGHT
TZNAME:EDT
TZOFFSETFROM:-0500
TZOFFSETTO:-0400
DTSTART:20230312T070000
END:DAYLIGHT
BEGIN:STANDARD
TZNAME:EST
TZOFFSETFROM:-0400
TZOFFSETTO:-0500
DTSTART:20231105T060000
END:STANDARD
END:VTIMEZONE
BEGIN:VEVENT
UID:69de54da090bf
DTSTART;TZID=America/Toronto:20240307T163000
SEQUENCE:0
TRANSP:TRANSPARENT
DTEND;TZID=America/Toronto:20240307T180000
URL:https://uwaterloo.ca/anthropology/events/unravelling-displaced-future-s
 yrians-between-emergency-and
LOCATION:67 Erb Street West Balsillie School of International Affairs\, Roo
 m 143 Waterloo ON N2L 6C2 Canada
SUMMARY:Unravelling a Displaced Future: Syrians Between Emergency and\nProt
 racted Crisis in Lebanon
CLASS:PUBLIC
DESCRIPTION:The Balsillie School of International Affairs presents a talk o
 n\ndisplaced Syrians in Lebanon by postdoctoral researcher Veronica\nFerre
 ri.
DTSTAMP:20260414T145314Z
END:VEVENT
END:VCALENDAR