BEGIN:VCALENDAR
VERSION:2.0
PRODID:-//Drupal iCal API//EN
X-WR-CALNAME:Events items teaser
X-WR-TIMEZONE:America/Toronto
BEGIN:VTIMEZONE
TZID:America/Toronto
X-LIC-LOCATION:America/Toronto
BEGIN:DAYLIGHT
TZNAME:EDT
TZOFFSETFROM:-0500
TZOFFSETTO:-0400
DTSTART:20240310T070000
END:DAYLIGHT
BEGIN:STANDARD
TZNAME:EST
TZOFFSETFROM:-0400
TZOFFSETTO:-0500
DTSTART:20231105T060000
END:STANDARD
END:VTIMEZONE
BEGIN:VEVENT
UID:69dfe4997da2f
DTSTART;TZID=America/Toronto:20241002T173000
SEQUENCE:0
TRANSP:TRANSPARENT
DTEND;TZID=America/Toronto:20241002T190000
URL:https://uwaterloo.ca/anthropology/events/2024-sally-weaver-award-guest-
 lecture-dr-maria-liston
LOCATION:HH - J.G. Hagey Hall of the Humanities\, Room 1108 200 University 
 Avenue West Waterloo ON N2L 3G1 Canada
SUMMARY:2024 Sally Weaver Award Guest Lecture: Dr. Maria Liston
CLASS:PUBLIC
DESCRIPTION:In 338 BCE Philip of Macedon and his teen-aged son Alexander de
 feated\nthe allied Greek forces led by the Athenians and Thebans. Recent\n
 rediscovery of records from the 19th century excavations site resulted\nin
  a new multinational project to analyze the battle from multiple\nperspect
 ives\, examining previously unstudied materials. This lecture\npresents th
 e results of these new analyses\, focusing primarily on the\nskeletons of 
 Theban soldiers from the Lion Monument mass grave at\nChaironeia and the c
 remated remains of the Macedonians buried under a\nmound on the battlefiel
 d.
DTSTAMP:20260415T191849Z
END:VEVENT
END:VCALENDAR