BEGIN:VCALENDAR
VERSION:2.0
PRODID:-//Drupal iCal API//EN
X-WR-CALNAME:Events items teaser
X-WR-TIMEZONE:America/Toronto
BEGIN:VTIMEZONE
TZID:America/Toronto
X-LIC-LOCATION:America/Toronto
BEGIN:DAYLIGHT
TZNAME:EDT
TZOFFSETFROM:-0500
TZOFFSETTO:-0400
DTSTART:20240310T070000
END:DAYLIGHT
BEGIN:STANDARD
TZNAME:EST
TZOFFSETFROM:-0400
TZOFFSETTO:-0500
DTSTART:20241103T060000
END:STANDARD
END:VTIMEZONE
BEGIN:VEVENT
UID:69e17b8fc312a
DTSTART;TZID=America/Toronto:20250307T130000
SEQUENCE:0
TRANSP:TRANSPARENT
DTEND;TZID=America/Toronto:20250307T143000
URL:https://uwaterloo.ca/anthropology/events/brown-bag-series-talk-unearthi
 ng-past-ethics-and-insights
LOCATION:PAS - Psychology\, Anthropology\, Sociology 200 University Avenue 
 West Room 2030 Waterloo ON N2L 3G1 Canada
SUMMARY:Brown Bag Series Talk - Unearthing the Past: The Ethics and Insight
 s\nof Ancient DNA Pathogen Research
CLASS:PUBLIC
DESCRIPTION:Join us for our next Brown Bag Series talk by Jessica Hider ent
 itled\nUnearthing the Past: The Ethics and Insights of Ancient DNA Pathoge
 n\nResearch
DTSTAMP:20260417T001511Z
END:VEVENT
END:VCALENDAR