BEGIN:VCALENDAR
VERSION:2.0
PRODID:-//Drupal iCal API//EN
X-WR-CALNAME:Events items teaser
X-WR-TIMEZONE:America/Toronto
BEGIN:VTIMEZONE
TZID:America/Toronto
X-LIC-LOCATION:America/Toronto
BEGIN:DAYLIGHT
TZNAME:EDT
TZOFFSETFROM:-0500
TZOFFSETTO:-0400
DTSTART:20250309T070000
END:DAYLIGHT
BEGIN:STANDARD
TZNAME:EST
TZOFFSETFROM:-0400
TZOFFSETTO:-0500
DTSTART:20241103T060000
END:STANDARD
END:VTIMEZONE
BEGIN:VEVENT
UID:69e14ba4f1d36
DTSTART;TZID=America/Toronto:20250314T130000
SEQUENCE:0
TRANSP:TRANSPARENT
DTEND;TZID=America/Toronto:20250314T143000
URL:https://uwaterloo.ca/anthropology/events/brown-bag-series-talk-crafting
 -arabic-language-ideologies
LOCATION:ML - Modern Languages 200 University Avenue West ML 109 Waterloo O
 N N2L 3G1 Canada
SUMMARY:Brown Bag Series Talk - Crafting Arabic: Language Ideologies and\nI
 magined Futures among AI Model Makers in Amman
CLASS:PUBLIC
DESCRIPTION:Join us for our next Brown Bag Series talk by Tarik Adely entit
 led\n_Crafting Arabic: Language Ideologies and Imagined Futures among AI\n
 Model Makers in Amman_
DTSTAMP:20260416T205045Z
END:VEVENT
END:VCALENDAR