BEGIN:VCALENDAR
VERSION:2.0
PRODID:-//Drupal iCal API//EN
X-WR-CALNAME:Events items teaser
X-WR-TIMEZONE:America/Toronto
BEGIN:VTIMEZONE
TZID:America/Toronto
X-LIC-LOCATION:America/Toronto
BEGIN:DAYLIGHT
TZNAME:EDT
TZOFFSETFROM:-0500
TZOFFSETTO:-0400
DTSTART:20250309T070000
END:DAYLIGHT
BEGIN:STANDARD
TZNAME:EST
TZOFFSETFROM:-0400
TZOFFSETTO:-0500
DTSTART:20241103T060000
END:STANDARD
END:VTIMEZONE
BEGIN:VEVENT
UID:69df75594cc92
DTSTART;TZID=America/Toronto:20250321T130000
SEQUENCE:0
TRANSP:TRANSPARENT
DTEND;TZID=America/Toronto:20250321T143000
URL:https://uwaterloo.ca/anthropology/events/brown-bag-series-talk-identify
 ing-and-uncovering-ontarios
LOCATION:PAS - Psychology\, Anthropology\, Sociology 200 University Avenue 
 West PAS 2030 Waterloo ON N2L 3G1 Canada
SUMMARY:Brown Bag Series Talk - Identifying and Uncovering Ontario’s\nUnm
 arked Graves: Cemetery Work as a Consultant Archaeologist
CLASS:PUBLIC
DESCRIPTION:Join us for our next Brown Bag Series talk by Dr. Katherine Bis
 hop\nentitled _ Identifying and Uncovering Ontario’s Unmarked Graves:\
 nCemetery Work as a Consultant Archaeologist_
DTSTAMP:20260415T112409Z
END:VEVENT
END:VCALENDAR