BEGIN:VCALENDAR
VERSION:2.0
PRODID:-//Drupal iCal API//EN
X-WR-CALNAME:Events items teaser
X-WR-TIMEZONE:America/Toronto
BEGIN:VTIMEZONE
TZID:America/Toronto
X-LIC-LOCATION:America/Toronto
BEGIN:DAYLIGHT
TZNAME:EDT
TZOFFSETFROM:-0500
TZOFFSETTO:-0400
DTSTART:20250309T070000
END:DAYLIGHT
BEGIN:STANDARD
TZNAME:EST
TZOFFSETFROM:-0400
TZOFFSETTO:-0500
DTSTART:20241103T060000
END:STANDARD
END:VTIMEZONE
BEGIN:VEVENT
UID:69e14aeca5674
DTSTART;TZID=America/Toronto:20250919T160000
SEQUENCE:0
TRANSP:TRANSPARENT
DTEND;TZID=America/Toronto:20250919T173000
URL:https://uwaterloo.ca/anthropology/events/2025-sally-weaver-award-guest-
 lecture-dr-darcie-deangelo
LOCATION:HH - J.G. Hagey Hall of the Humanities\, Room 1106 200 University 
 Avenue West Waterloo ON N2L 3G1 Canada
SUMMARY:2025 Sally Weaver Award Guest Lecture: Dr. Darcie DeAngelo
CLASS:PUBLIC
DESCRIPTION:What happens when we attend ethnographically to the pests at ou
 r\nfeet—like the urban rats we share our lives with? Anthropologist\,\nw
 riter\, and filmmaker Darcie DeAngelo asks\, \"What kind of animal are\nw
 e?\" and explores rodent-human relationships as a pest entourage.
DTSTAMP:20260416T204740Z
END:VEVENT
END:VCALENDAR