BEGIN:VCALENDAR
VERSION:2.0
PRODID:-//Drupal iCal API//EN
X-WR-CALNAME:Events items teaser
X-WR-TIMEZONE:America/Toronto
BEGIN:VTIMEZONE
TZID:America/Toronto
X-LIC-LOCATION:America/Toronto
BEGIN:DAYLIGHT
TZNAME:EDT
TZOFFSETFROM:-0500
TZOFFSETTO:-0400
DTSTART:20250309T070000
END:DAYLIGHT
BEGIN:STANDARD
TZNAME:EST
TZOFFSETFROM:-0400
TZOFFSETTO:-0500
DTSTART:20251102T060000
END:STANDARD
END:VTIMEZONE
BEGIN:VEVENT
UID:69e0c4b53d578
DTSTART;TZID=America/Toronto:20251121T110000
SEQUENCE:0
TRANSP:TRANSPARENT
DTEND;TZID=America/Toronto:20251121T130000
URL:https://uwaterloo.ca/anthropology/events/brown-bag-series-talk-landscap
 e-llama-husbandry-andes
LOCATION:PAS - Psychology\, Anthropology\, Sociology 200 University Avenue 
 West PAS 2030 Waterloo ON N2L 3G1 Canada
SUMMARY:Brown Bag Series Talk - The Landscape of Llama Husbandry in the And
 es\nbefore the Arrival of Europeans
CLASS:PUBLIC
DESCRIPTION:Join us for our next Brown Bag Series talk by Paul Szpak entitl
 ed The\nLandscape of Llama Husbandry in the Andes before the Arrival of\n
 Europeans. Please note that the talk by Professor Paul Szpak\, Trent\nUni
 versity\, originally scheduled for Friday November 21 is cancelled.\nPleas
 e wait until further notice for a new date. 
DTSTAMP:20260416T111501Z
END:VEVENT
END:VCALENDAR