BEGIN:VCALENDAR
VERSION:2.0
PRODID:-//Drupal iCal API//EN
X-WR-CALNAME:Events items teaser
X-WR-TIMEZONE:America/Toronto
BEGIN:VTIMEZONE
TZID:America/Toronto
X-LIC-LOCATION:America/Toronto
BEGIN:DAYLIGHT
TZNAME:EDT
TZOFFSETFROM:-0500
TZOFFSETTO:-0400
DTSTART:20250309T070000
END:DAYLIGHT
BEGIN:STANDARD
TZNAME:EST
TZOFFSETFROM:-0400
TZOFFSETTO:-0500
DTSTART:20241103T060000
END:STANDARD
END:VTIMEZONE
BEGIN:VEVENT
UID:69e208aecffef
DTSTART;TZID=America/Toronto:20251027T113000
SEQUENCE:0
TRANSP:TRANSPARENT
DTEND;TZID=America/Toronto:20251027T130000
URL:https://uwaterloo.ca/anthropology/events/anthropology-graduate-school-w
 orkshop
LOCATION:PAS - Psychology\, Anthropology\, Sociology 200 University Avenue 
 West PAS 2030 Waterloo ON N2L 3G1 Canada
SUMMARY:Anthropology Graduate School Workshop
CLASS:PUBLIC
DESCRIPTION:Join us for an informative discussion on the process of applyin
 g to\nour anthropology program.
DTSTAMP:20260417T101718Z
END:VEVENT
END:VCALENDAR