BEGIN:VCALENDAR
VERSION:2.0
PRODID:-//Drupal iCal API//EN
X-WR-CALNAME:Events items teaser
X-WR-TIMEZONE:America/Toronto
BEGIN:VTIMEZONE
TZID:America/Toronto
X-LIC-LOCATION:America/Toronto
BEGIN:DAYLIGHT
TZNAME:EDT
TZOFFSETFROM:-0500
TZOFFSETTO:-0400
DTSTART:20250309T070000
END:DAYLIGHT
BEGIN:STANDARD
TZNAME:EST
TZOFFSETFROM:-0400
TZOFFSETTO:-0500
DTSTART:20241103T060000
END:STANDARD
END:VTIMEZONE
BEGIN:VEVENT
UID:69e0f87dc63ab
DTSTART;TZID=America/Toronto:20251031T110000
SEQUENCE:0
TRANSP:TRANSPARENT
DTEND;TZID=America/Toronto:20251031T130000
URL:https://uwaterloo.ca/anthropology/events/brown-bag-series-talk-bioarcha
 eological-and-archaeological
LOCATION:PAS - Psychology\, Anthropology\, Sociology 200 University Avenue 
 West PAS 2030 Waterloo ON N2L 3G1 Canada
SUMMARY:Brown Bag Series Talk - Bioarchaeological and Archaeological\nAppro
 aches to Adolescence: A Case Study from 19th to 20th Century\nEngland
CLASS:PUBLIC
DESCRIPTION:Join us for our next Brown Bag Series talk by Dana Thacher enti
 tled\nBioarchaeological and Archaeological Approaches to Adolescence: A Ca
 se\nStudy from 19th to 20th Century England
DTSTAMP:20260416T145557Z
END:VEVENT
END:VCALENDAR