BEGIN:VCALENDAR
VERSION:2.0
PRODID:-//Drupal iCal API//EN
X-WR-CALNAME:Events items teaser
X-WR-TIMEZONE:America/Toronto
BEGIN:VTIMEZONE
TZID:America/Toronto
X-LIC-LOCATION:America/Toronto
BEGIN:DAYLIGHT
TZNAME:EDT
TZOFFSETFROM:-0500
TZOFFSETTO:-0400
DTSTART:20250309T070000
END:DAYLIGHT
BEGIN:STANDARD
TZNAME:EST
TZOFFSETFROM:-0400
TZOFFSETTO:-0500
DTSTART:20251102T060000
END:STANDARD
END:VTIMEZONE
BEGIN:VEVENT
UID:69de885db6e0f
DTSTART;TZID=America/Toronto:20260116T160000
SEQUENCE:0
TRANSP:TRANSPARENT
DTEND;TZID=America/Toronto:20260116T180000
URL:https://uwaterloo.ca/anthropology/events/film-screening-and-discussion-
 partition
LOCATION:Balsillie School of International Affairs 67 Erb Street West Room 
 1-42 Waterloo ON Canada
SUMMARY:Film Screening and discussion: “Partition”
CLASS:PUBLIC
DESCRIPTION:Join us for a film screening of _Partition_ by Diana Allan\, fo
 llowed\nby a roundtable discussion with Ilana Feldman\, Nazli Akhtari\, Ja
 smin\nHabib\, and Diana Allan\, and then a reception.
DTSTAMP:20260414T183301Z
END:VEVENT
END:VCALENDAR