BEGIN:VCALENDAR
VERSION:2.0
PRODID:-//Drupal iCal API//EN
X-WR-CALNAME:Events items teaser
X-WR-TIMEZONE:America/Toronto
BEGIN:VTIMEZONE
TZID:America/Toronto
X-LIC-LOCATION:America/Toronto
BEGIN:DAYLIGHT
TZNAME:EDT
TZOFFSETFROM:-0500
TZOFFSETTO:-0400
DTSTART:20250309T070000
END:DAYLIGHT
BEGIN:STANDARD
TZNAME:EST
TZOFFSETFROM:-0400
TZOFFSETTO:-0500
DTSTART:20251102T060000
END:STANDARD
END:VTIMEZONE
BEGIN:VEVENT
UID:69e0a94e71714
DTSTART;TZID=America/Toronto:20260302T160000
SEQUENCE:0
TRANSP:TRANSPARENT
DTEND;TZID=America/Toronto:20260302T180000
URL:https://uwaterloo.ca/anthropology/events/silver-medal-lecture-dr-amy-sc
 ott
LOCATION:EV3 - Environment 3\, room 4412 200 University Avenue West Room 11
 02 Waterloo ON N2L 3G1 Canada
SUMMARY:Silver Medal Lecture: Dr. Amy Scott
CLASS:PUBLIC
DESCRIPTION:Join Dr. Amy Scott\, Associate Professor at Trent University in
  the\nDepartments of Anthropology and Forensic Science\, for her talk on\n
 \"Turning a rescue excavation of an 18th century cemetery into a unique\nv
 isitor experience at the Fortress of Louisbourg National Historic\nSite o
 f Canada\"
DTSTAMP:20260416T091806Z
END:VEVENT
END:VCALENDAR