BEGIN:VCALENDAR
VERSION:2.0
PRODID:-//Drupal iCal API//EN
X-WR-CALNAME:Events items teaser
X-WR-TIMEZONE:America/Toronto
BEGIN:VTIMEZONE
TZID:America/Toronto
X-LIC-LOCATION:America/Toronto
BEGIN:DAYLIGHT
TZNAME:EDT
TZOFFSETFROM:-0500
TZOFFSETTO:-0400
DTSTART:20250309T070000
END:DAYLIGHT
BEGIN:STANDARD
TZNAME:EST
TZOFFSETFROM:-0400
TZOFFSETTO:-0500
DTSTART:20251102T060000
END:STANDARD
END:VTIMEZONE
BEGIN:VEVENT
UID:69de885ad3da3
DTSTART;TZID=America/Toronto:20260306T133000
SEQUENCE:0
TRANSP:TRANSPARENT
DTEND;TZID=America/Toronto:20260306T153000
URL:https://uwaterloo.ca/anthropology/events/tales-and-lessons-userx
LOCATION:PAS - room 2030 Room 2030 Waterloo ON Canada
SUMMARY:Tales and Lessons from Userx
CLASS:PUBLIC
DESCRIPTION:Join us for _Tales and Lessons from User Experience_\, a talk b
 y Velian\nPandeliev\, Coordinator of the User Experience Design (UXD)\ncon
 centration in the Master of Information program at the University\nof Toro
 nto’s Faculty of Information. Drawing on his background in\ncognition &amp; 
 computation and human–computer interaction\, Velian will\nshare insights
  on ethical design\, accessibility\, and what it means to\nunderstand and 
 represent human experiences in technology.
DTSTAMP:20260414T183258Z
END:VEVENT
END:VCALENDAR