BEGIN:VCALENDAR
VERSION:2.0
PRODID:-//Drupal iCal API//EN
X-WR-CALNAME:Events items teaser
X-WR-TIMEZONE:America/Toronto
BEGIN:VTIMEZONE
TZID:America/Toronto
X-LIC-LOCATION:America/Toronto
BEGIN:DAYLIGHT
TZNAME:EDT
TZOFFSETFROM:-0500
TZOFFSETTO:-0400
DTSTART:20260308T070000
END:DAYLIGHT
BEGIN:STANDARD
TZNAME:EST
TZOFFSETFROM:-0400
TZOFFSETTO:-0500
DTSTART:20251102T060000
END:STANDARD
END:VTIMEZONE
BEGIN:VEVENT
UID:69e0192b6c8b1
DTSTART;TZID=America/Toronto:20260325T160000
SEQUENCE:0
TRANSP:TRANSPARENT
DTEND;TZID=America/Toronto:20260325T180000
URL:https://uwaterloo.ca/anthropology/events/technicity-artefacts-objects-a
 nd-images-encapsulated
LOCATION:EV3 - Environment 3 200 University Avenue West\, Room: EV3 4408 Wa
 terloo ON N2L 3G1 Canada
SUMMARY:The Technicity of Artefacts: Objects and Images as Encapsulated\nRe
 lations
CLASS:PUBLIC
DESCRIPTION:Ludovic Coupaye is Associate Professor at the Department of\nAn
 thropology at UCL. His work explores technicity\, material practices\,\nan
 d the relational processes through which technical activities and\nobjects
  shape sociality and relations with environments. His research\nspans Mela
 nesian ethnography\, theories of materiality\, digital\nanthropology and t
 he anthropology of technics\, with a particular focus\non how technicity o
 f objects contributes to the stabilisation\,\ntransformation\, or emergenc
 e of social\, ecological\, and institutional\nworlds. He is one of the fou
 nders and co‑director of the Centre for\nthe Anthropology of Technics an
 d Technodiversity (CATT).
DTSTAMP:20260415T230307Z
END:VEVENT
END:VCALENDAR