BEGIN:VCALENDAR
VERSION:2.0
PRODID:-//Drupal iCal API//EN
X-WR-CALNAME:Events items teaser
X-WR-TIMEZONE:America/Toronto
BEGIN:VTIMEZONE
TZID:America/Toronto
X-LIC-LOCATION:America/Toronto
BEGIN:DAYLIGHT
TZNAME:EDT
TZOFFSETFROM:-0500
TZOFFSETTO:-0400
DTSTART:20090308T070000
END:DAYLIGHT
BEGIN:STANDARD
TZNAME:EST
TZOFFSETFROM:-0400
TZOFFSETTO:-0500
DTSTART:20081102T060000
END:STANDARD
END:VTIMEZONE
BEGIN:VEVENT
UID:69ebe39de8e6a
DTSTART;TZID=America/Toronto:20090318T123000
SEQUENCE:0
TRANSP:TRANSPARENT
DTEND;TZID=America/Toronto:20090318T133000
URL:https://uwaterloo.ca/applied-mathematics/events/graduate-student-semina
 r-accelerator-architectures
LOCATION:University of Waterloo MC 5158 Canada
SUMMARY:Graduate student seminar | Accelerator Architectures\, An Introduct
 ion\nto using the GPU for scientific applications
CLASS:PUBLIC
DESCRIPTION:SPEAKER\n\nSCOTT ROSTRUP\nUniversity of Waterloo
DTSTAMP:20260424T214149Z
END:VEVENT
END:VCALENDAR