BEGIN:VCALENDAR
VERSION:2.0
PRODID:-//Drupal iCal API//EN
X-WR-CALNAME:Events items teaser
X-WR-TIMEZONE:America/Toronto
BEGIN:VTIMEZONE
TZID:America/Toronto
X-LIC-LOCATION:America/Toronto
BEGIN:DAYLIGHT
TZNAME:EDT
TZOFFSETFROM:-0500
TZOFFSETTO:-0400
DTSTART:20110313T070000
END:DAYLIGHT
BEGIN:STANDARD
TZNAME:EST
TZOFFSETFROM:-0400
TZOFFSETTO:-0500
DTSTART:20101107T060000
END:STANDARD
END:VTIMEZONE
BEGIN:VEVENT
UID:69ebe3926362c
DTSTART;TZID=America/Toronto:20111003T163000
SEQUENCE:0
TRANSP:TRANSPARENT
DTEND;TZID=America/Toronto:20111003T173000
URL:https://uwaterloo.ca/applied-mathematics/events/graduate-student-semina
 r-how-best-sample-periodic
LOCATION:University of Waterloo MC 5136 Canada
SUMMARY:Graduate student seminar | How best to sample a periodic probabilit
 y\ndistribution
CLASS:PUBLIC
DESCRIPTION:SPEAKER\n\nCHRIS FERRIE\, PhD Candidate\nDepartment of Applied 
 Mathematics\, University of Waterloo
DTSTAMP:20260424T214138Z
END:VEVENT
END:VCALENDAR