BEGIN:VCALENDAR
VERSION:2.0
PRODID:-//Drupal iCal API//EN
X-WR-CALNAME:Events items teaser
X-WR-TIMEZONE:America/Toronto
BEGIN:VTIMEZONE
TZID:America/Toronto
X-LIC-LOCATION:America/Toronto
BEGIN:DAYLIGHT
TZNAME:EDT
TZOFFSETFROM:-0500
TZOFFSETTO:-0400
DTSTART:20110313T070000
END:DAYLIGHT
BEGIN:STANDARD
TZNAME:EST
TZOFFSETFROM:-0400
TZOFFSETTO:-0500
DTSTART:20101107T060000
END:STANDARD
END:VTIMEZONE
BEGIN:VEVENT
UID:69ec2ac8759c7
DTSTART;TZID=America/Toronto:20111017T163000
SEQUENCE:0
TRANSP:TRANSPARENT
DTEND;TZID=America/Toronto:20111017T173000
URL:https://uwaterloo.ca/applied-mathematics/events/graduate-student-semina
 r-linear-conjugacy-chemical-reaction
LOCATION:University of Waterloo MC 5136 Canada
SUMMARY:Graduate student seminar | Linear Conjugacy of Chemical Reaction\nN
 etworks
CLASS:PUBLIC
DESCRIPTION:SPEAKER\n\nMATT JOHNSTON\, PhD Candidate\nDepartment of Applied
  Mathematics\, University of Waterloo
DTSTAMP:20260425T024528Z
END:VEVENT
END:VCALENDAR