BEGIN:VCALENDAR
VERSION:2.0
PRODID:-//Drupal iCal API//EN
X-WR-CALNAME:Events items teaser
X-WR-TIMEZONE:America/Toronto
BEGIN:VTIMEZONE
TZID:America/Toronto
X-LIC-LOCATION:America/Toronto
BEGIN:DAYLIGHT
TZNAME:EDT
TZOFFSETFROM:-0500
TZOFFSETTO:-0400
DTSTART:20110313T070000
END:DAYLIGHT
BEGIN:STANDARD
TZNAME:EST
TZOFFSETFROM:-0400
TZOFFSETTO:-0500
DTSTART:20111106T060000
END:STANDARD
END:VTIMEZONE
BEGIN:VEVENT
UID:69ebfb5c4e9e3
DTSTART;TZID=America/Toronto:20120116T173000
SEQUENCE:0
TRANSP:TRANSPARENT
DTEND;TZID=America/Toronto:20120116T183000
URL:https://uwaterloo.ca/applied-mathematics/events/graduate-student-semina
 r-disturbance-rejection-lateral
LOCATION:University of Waterloo MC 5136 Canada
SUMMARY:Graduate student seminar | Disturbance rejection from the lateral\n
 motion in a roll-to-roll web system
CLASS:PUBLIC
DESCRIPTION:SPEAKER\n\nJIN ZHAO\, PhD Candidate\nDepartment of Applied Math
 ematics\, University of Waterloo
DTSTAMP:20260424T232308Z
END:VEVENT
END:VCALENDAR