BEGIN:VCALENDAR
VERSION:2.0
PRODID:-//Drupal iCal API//EN
X-WR-CALNAME:Events items teaser
X-WR-TIMEZONE:America/Toronto
BEGIN:VTIMEZONE
TZID:America/Toronto
X-LIC-LOCATION:America/Toronto
BEGIN:DAYLIGHT
TZNAME:EDT
TZOFFSETFROM:-0500
TZOFFSETTO:-0400
DTSTART:20120311T070000
END:DAYLIGHT
BEGIN:STANDARD
TZNAME:EST
TZOFFSETFROM:-0400
TZOFFSETTO:-0500
DTSTART:20111106T060000
END:STANDARD
END:VTIMEZONE
BEGIN:VEVENT
UID:69ec2abf6796b
DTSTART;TZID=America/Toronto:20120312T173000
SEQUENCE:0
TRANSP:TRANSPARENT
DTEND;TZID=America/Toronto:20120312T183000
URL:https://uwaterloo.ca/applied-mathematics/events/graduate-student-semina
 r-introduction-compressed-sensing
LOCATION:University of Waterloo MC 5136 Canada
SUMMARY:Graduate student seminar | An Introduction to Compressed Sensing
CLASS:PUBLIC
DESCRIPTION:SPEAKER\n\nDANIEL OTERO\, PhD Candidate\nDepartment of Applied 
 Mathematics\, University of Waterloo
DTSTAMP:20260425T024519Z
END:VEVENT
END:VCALENDAR