BEGIN:VCALENDAR
VERSION:2.0
PRODID:-//Drupal iCal API//EN
X-WR-CALNAME:Events items teaser
X-WR-TIMEZONE:America/Toronto
BEGIN:VTIMEZONE
TZID:America/Toronto
X-LIC-LOCATION:America/Toronto
BEGIN:DAYLIGHT
TZNAME:EDT
TZOFFSETFROM:-0500
TZOFFSETTO:-0400
DTSTART:20120311T070000
END:DAYLIGHT
BEGIN:STANDARD
TZNAME:EST
TZOFFSETFROM:-0400
TZOFFSETTO:-0500
DTSTART:20121104T060000
END:STANDARD
END:VTIMEZONE
BEGIN:VEVENT
UID:69ecd1398cf5c
DTSTART;TZID=America/Toronto:20121220T100000
SEQUENCE:0
TRANSP:TRANSPARENT
DTEND;TZID=America/Toronto:20121220T100000
URL:https://uwaterloo.ca/applied-mathematics/events/masters-defence-janelle
 -resch-nonlinear-wave-propagation
SUMMARY:Master's defence | Janelle Resch\, Nonlinear Wave Propagation in Br
 ass\nInstruments
CLASS:PUBLIC
DESCRIPTION:MC 5158
DTSTAMP:20260425T143537Z
END:VEVENT
END:VCALENDAR