BEGIN:VCALENDAR
VERSION:2.0
PRODID:-//Drupal iCal API//EN
X-WR-CALNAME:Events items teaser
X-WR-TIMEZONE:America/Toronto
BEGIN:VTIMEZONE
TZID:America/Toronto
X-LIC-LOCATION:America/Toronto
BEGIN:DAYLIGHT
TZNAME:EDT
TZOFFSETFROM:-0500
TZOFFSETTO:-0400
DTSTART:20250309T070000
END:DAYLIGHT
BEGIN:STANDARD
TZNAME:EST
TZOFFSETFROM:-0400
TZOFFSETTO:-0500
DTSTART:20241103T060000
END:STANDARD
END:VTIMEZONE
BEGIN:VEVENT
UID:69ec3fa712d55
DTSTART;TZID=America/Toronto:20250610T093000
SEQUENCE:0
TRANSP:TRANSPARENT
DTEND;TZID=America/Toronto:20250610T103000
URL:https://uwaterloo.ca/applied-mathematics/events/applied-math-mathematic
 al-biology-seminar-william-lytton
LOCATION:MC 5501 - Mathematics &amp; Computer Building 200 University Avenue We
 st Waterloo ON N2L 3G1 Canada
SUMMARY:Applied Math Mathematical Biology Seminar | William Lytton\, Neuron
 s\nand synapses working together happily in brain health\; not so happily\
 nin brain disease
CLASS:PUBLIC
DESCRIPTION:MC 5501
DTSTAMP:20260425T041431Z
END:VEVENT
END:VCALENDAR