BEGIN:VCALENDAR
VERSION:2.0
PRODID:-//Drupal iCal API//EN
X-WR-CALNAME:Events items teaser
X-WR-TIMEZONE:America/Toronto
BEGIN:VTIMEZONE
TZID:America/Toronto
X-LIC-LOCATION:America/Toronto
BEGIN:DAYLIGHT
TZNAME:EDT
TZOFFSETFROM:-0500
TZOFFSETTO:-0400
DTSTART:20250309T070000
END:DAYLIGHT
BEGIN:STANDARD
TZNAME:EST
TZOFFSETFROM:-0400
TZOFFSETTO:-0500
DTSTART:20251102T060000
END:STANDARD
END:VTIMEZONE
BEGIN:VEVENT
UID:69e9e66890a0f
DTSTART;TZID=America/Toronto:20260109T153000
SEQUENCE:0
TRANSP:TRANSPARENT
DTEND;TZID=America/Toronto:20260109T163000
URL:https://uwaterloo.ca/applied-mathematics/events/masters-thesis-defence-
 elizabeth-yackoboski-hybridizable
LOCATION:MC 5479 - Mathematics &amp; Computer Building 200 University Avenue We
 st Waterloo ON N2L 3G1 Canada
SUMMARY:Master's Thesis Defence | Elizabeth Yackoboski\, Hybridizable\ndisc
 ontinuous Galerkin methods for coupled flow and transport systems
CLASS:PUBLIC
DESCRIPTION:MC5479
DTSTAMP:20260423T092912Z
END:VEVENT
END:VCALENDAR