BEGIN:VCALENDAR
VERSION:2.0
PRODID:-//Drupal iCal API//EN
X-WR-CALNAME:Events items teaser
X-WR-TIMEZONE:America/Toronto
BEGIN:VTIMEZONE
TZID:America/Toronto
X-LIC-LOCATION:America/Toronto
BEGIN:DAYLIGHT
TZNAME:EDT
TZOFFSETFROM:-0500
TZOFFSETTO:-0400
DTSTART:20260308T070000
END:DAYLIGHT
BEGIN:STANDARD
TZNAME:EST
TZOFFSETFROM:-0400
TZOFFSETTO:-0500
DTSTART:20251102T060000
END:STANDARD
END:VTIMEZONE
BEGIN:VEVENT
UID:69e93d1464a9b
DTSTART;TZID=America/Toronto:20260406T100000
SEQUENCE:0
TRANSP:TRANSPARENT
DTEND;TZID=America/Toronto:20260406T110000
URL:https://uwaterloo.ca/applied-mathematics/events/masters-thesis-defence-
 xianglong-bai-graph-neural-network
LOCATION:MC 5479 - Mathematics &amp; Computer Building 200 University Avenue We
 st Waterloo ON N2L 3G1 Canada
SUMMARY:Master's Thesis Defence | Xianglong Bai\, Graph Neural Network-base
 d\nApproximate Bayesian Computation for Agent-based Model Calibration of\n
 Bacterial Population Growth
CLASS:PUBLIC
DESCRIPTION:MC 5479
DTSTAMP:20260422T212644Z
END:VEVENT
END:VCALENDAR