BEGIN:VCALENDAR
VERSION:2.0
PRODID:-//Drupal iCal API//EN
X-WR-CALNAME:Events items teaser
X-WR-TIMEZONE:America/Toronto
BEGIN:VTIMEZONE
TZID:America/Toronto
X-LIC-LOCATION:America/Toronto
BEGIN:DAYLIGHT
TZNAME:EDT
TZOFFSETFROM:-0500
TZOFFSETTO:-0400
DTSTART:20260308T070000
END:DAYLIGHT
BEGIN:STANDARD
TZNAME:EST
TZOFFSETFROM:-0400
TZOFFSETTO:-0500
DTSTART:20251102T060000
END:STANDARD
END:VTIMEZONE
BEGIN:VEVENT
UID:69e91608d3861
DTSTART;TZID=America/Toronto:20260417T100000
SEQUENCE:0
TRANSP:TRANSPARENT
DTEND;TZID=America/Toronto:20260417T110000
URL:https://uwaterloo.ca/applied-mathematics/events/phd-thesis-defence-sefa
 h-frimpong-coupled-behaviour-disease
LOCATION:MC 6460 - Mathematics &amp; Computer Building 200 University Avenue We
 st Waterloo ON N2L 3G1 Canada
SUMMARY:PhD Thesis Defence | Sefah Frimpong\, Coupled behaviour-disease\nmo
 delling for insights into pandemic waves\, control measures\, and\nemergen
 ce of social norms
CLASS:PUBLIC
DESCRIPTION:MC 6460
DTSTAMP:20260422T184008Z
END:VEVENT
END:VCALENDAR