BEGIN:VCALENDAR
VERSION:2.0
PRODID:-//Drupal iCal API//EN
X-WR-CALNAME:Events items teaser
X-WR-TIMEZONE:America/Toronto
BEGIN:VTIMEZONE
TZID:America/Toronto
X-LIC-LOCATION:America/Toronto
BEGIN:DAYLIGHT
TZNAME:EDT
TZOFFSETFROM:-0500
TZOFFSETTO:-0400
DTSTART:20130310T070000
END:DAYLIGHT
BEGIN:STANDARD
TZNAME:EST
TZOFFSETFROM:-0400
TZOFFSETTO:-0500
DTSTART:20131103T060000
END:STANDARD
END:VTIMEZONE
BEGIN:VEVENT
UID:69ed43b2910ad
DTSTART;TZID=America/Toronto:20131206T100000
SEQUENCE:0
TRANSP:TRANSPARENT
DTEND;TZID=America/Toronto:20131206T100000
URL:https://uwaterloo.ca/applied-mathematics/events/masters-defence-luke-bo
 vard-short-wave-vortex-instabilities
LOCATION:University of Waterloo MC 5136 Canada
SUMMARY:Master's defence | Luke Bovard\, Short-Wave Vortex Instabilities in
 \nStratified Flow
CLASS:PUBLIC
DESCRIPTION:MC 5136
DTSTAMP:20260425T224402Z
END:VEVENT
END:VCALENDAR