BEGIN:VCALENDAR
VERSION:2.0
PRODID:-//Drupal iCal API//EN
X-WR-CALNAME:Events items teaser
X-WR-TIMEZONE:America/Toronto
BEGIN:VTIMEZONE
TZID:America/Toronto
X-LIC-LOCATION:America/Toronto
BEGIN:DAYLIGHT
TZNAME:EDT
TZOFFSETFROM:-0500
TZOFFSETTO:-0400
DTSTART:20260308T070000
END:DAYLIGHT
BEGIN:STANDARD
TZNAME:EST
TZOFFSETFROM:-0400
TZOFFSETTO:-0500
DTSTART:20251102T060000
END:STANDARD
END:VTIMEZONE
BEGIN:VEVENT
UID:69ece9091d6d2
DTSTART;TZID=America/Toronto:20260507T143000
SEQUENCE:0
TRANSP:TRANSPARENT
DTEND;TZID=America/Toronto:20260507T153000
URL:https://uwaterloo.ca/applied-mathematics/events/applied-math-colloquium
 -amine-aboussalah-data-scarcity
LOCATION:MC 5501 - Mathematics &amp; Computer Building 200 University Avenue We
 st Waterloo ON N2L 3G1 Canada
SUMMARY:Applied Math Colloquium | Amine Aboussalah\, From Data Scarcity to\
 nDecision Resilience: A Principled Framework for Generative Modeling
CLASS:PUBLIC
DESCRIPTION:MC 5501
DTSTAMP:20260425T161713Z
END:VEVENT
END:VCALENDAR