BEGIN:VCALENDAR
VERSION:2.0
PRODID:-//Drupal iCal API//EN
X-WR-CALNAME:Events items teaser
X-WR-TIMEZONE:America/Toronto
BEGIN:VTIMEZONE
TZID:America/Toronto
X-LIC-LOCATION:America/Toronto
BEGIN:DAYLIGHT
TZNAME:EDT
TZOFFSETFROM:-0500
TZOFFSETTO:-0400
DTSTART:20140309T070000
END:DAYLIGHT
BEGIN:STANDARD
TZNAME:EST
TZOFFSETFROM:-0400
TZOFFSETTO:-0500
DTSTART:20131103T060000
END:STANDARD
END:VTIMEZONE
BEGIN:VEVENT
UID:69ecd13f91120
DTSTART;TZID=America/New_York:20140424T100000
SEQUENCE:0
TRANSP:TRANSPARENT
DTEND;TZID=America/New_York:20140424T100000
URL:https://uwaterloo.ca/applied-mathematics/events/masters-defence-arman-t
 avakoli-h2-optimal-sensor-location
LOCATION:University of Waterloo M3 2134 Canada
SUMMARY:Master's defence | Arman Tavakoli\, H2-Optimal Sensor Location
CLASS:PUBLIC
DESCRIPTION:M3-2134
DTSTAMP:20260425T143543Z
END:VEVENT
END:VCALENDAR