BEGIN:VCALENDAR
VERSION:2.0
PRODID:-//Drupal iCal API//EN
X-WR-CALNAME:Events items teaser
X-WR-TIMEZONE:America/Toronto
BEGIN:VTIMEZONE
TZID:America/Toronto
X-LIC-LOCATION:America/Toronto
BEGIN:DAYLIGHT
TZNAME:EDT
TZOFFSETFROM:-0500
TZOFFSETTO:-0400
DTSTART:20140309T070000
END:DAYLIGHT
BEGIN:STANDARD
TZNAME:EST
TZOFFSETFROM:-0400
TZOFFSETTO:-0500
DTSTART:20131103T060000
END:STANDARD
END:VTIMEZONE
BEGIN:VEVENT
UID:69ecd149216d5
DTSTART;TZID=America/Toronto:20140731T090000
SEQUENCE:0
TRANSP:TRANSPARENT
DTEND;TZID=America/Toronto:20140731T090000
URL:https://uwaterloo.ca/applied-mathematics/events/masters-defence-abdulha
 med-alsisi-quasi-static-approximation
LOCATION:University of Waterloo MC 6486 Canada
SUMMARY:Master's defence | Abdulhamed Alsisi\, Quasi-Static Approximation f
 or\nNumerical Computation of Plasmon Eiegenfrequancies in Nanoparticles
CLASS:PUBLIC
DESCRIPTION:MC 6486
DTSTAMP:20260425T143553Z
END:VEVENT
END:VCALENDAR