BEGIN:VCALENDAR
VERSION:2.0
PRODID:-//Drupal iCal API//EN
X-WR-CALNAME:Events items teaser
X-WR-TIMEZONE:America/Toronto
BEGIN:VTIMEZONE
TZID:America/Toronto
X-LIC-LOCATION:America/Toronto
BEGIN:DAYLIGHT
TZNAME:EDT
TZOFFSETFROM:-0500
TZOFFSETTO:-0400
DTSTART:20140309T070000
END:DAYLIGHT
BEGIN:STANDARD
TZNAME:EST
TZOFFSETFROM:-0400
TZOFFSETTO:-0500
DTSTART:20131103T060000
END:STANDARD
END:VTIMEZONE
BEGIN:VEVENT
UID:69ed43bb2059d
DTSTART;TZID=America/Toronto:20140801T100000
SEQUENCE:0
TRANSP:TRANSPARENT
DTEND;TZID=America/Toronto:20140801T100000
URL:https://uwaterloo.ca/applied-mathematics/events/masters-defence-keenan-
 lyon-analysis-plasmons-sustained
LOCATION:University of Waterloo MC 6496 Canada
SUMMARY:Master's defence | Keenan Lyon\, Analysis of Plasmons Sustained on 
 the\nSurface of Graphene
CLASS:PUBLIC
DESCRIPTION:MC 6496
DTSTAMP:20260425T224411Z
END:VEVENT
END:VCALENDAR