BEGIN:VCALENDAR
VERSION:2.0
PRODID:-//Drupal iCal API//EN
X-WR-CALNAME:Events items teaser
X-WR-TIMEZONE:America/Toronto
BEGIN:VTIMEZONE
TZID:America/Toronto
X-LIC-LOCATION:America/Toronto
BEGIN:DAYLIGHT
TZNAME:EDT
TZOFFSETFROM:-0500
TZOFFSETTO:-0400
DTSTART:20140309T070000
END:DAYLIGHT
BEGIN:STANDARD
TZNAME:EST
TZOFFSETFROM:-0400
TZOFFSETTO:-0500
DTSTART:20131103T060000
END:STANDARD
END:VTIMEZONE
BEGIN:VEVENT
UID:69ece68d358d0
DTSTART;TZID=America/Toronto:20140813T110000
SEQUENCE:0
TRANSP:TRANSPARENT
DTEND;TZID=America/Toronto:20140813T110000
URL:https://uwaterloo.ca/applied-mathematics/events/masters-defence-jason-b
 oisselle-port-based-teleportation
LOCATION:University of Waterloo QNC 4104 Canada
SUMMARY:Master's defence | Jason Boisselle\, Port-based teleportation of\nc
 ontinuous quantum variables
CLASS:PUBLIC
DESCRIPTION:QNC 4104
DTSTAMP:20260425T160637Z
END:VEVENT
END:VCALENDAR