BEGIN:VCALENDAR
VERSION:2.0
PRODID:-//Drupal iCal API//EN
X-WR-CALNAME:Events items teaser
X-WR-TIMEZONE:America/Toronto
BEGIN:VTIMEZONE
TZID:America/Toronto
X-LIC-LOCATION:America/Toronto
BEGIN:DAYLIGHT
TZNAME:EDT
TZOFFSETFROM:-0500
TZOFFSETTO:-0400
DTSTART:20150308T070000
END:DAYLIGHT
BEGIN:STANDARD
TZNAME:EST
TZOFFSETFROM:-0400
TZOFFSETTO:-0500
DTSTART:20141102T060000
END:STANDARD
END:VTIMEZONE
BEGIN:VEVENT
UID:69ed74a18382f
DTSTART;TZID=America/Toronto:20150717T140000
SEQUENCE:0
TRANSP:TRANSPARENT
DTEND;TZID=America/Toronto:20150717T140000
URL:https://uwaterloo.ca/applied-mathematics/events/masters-defence-shaun-s
 awyer-gain-scheduled-control
SUMMARY:Master's defence | Shaun Sawyer\, Gain-Scheduled Control of a\nQuad
 copter UAV
CLASS:PUBLIC
DESCRIPTION:MC 6496
DTSTAMP:20260426T021249Z
END:VEVENT
END:VCALENDAR