BEGIN:VCALENDAR
VERSION:2.0
PRODID:-//Drupal iCal API//EN
X-WR-CALNAME:Events items teaser
X-WR-TIMEZONE:America/Toronto
BEGIN:VTIMEZONE
TZID:America/Toronto
X-LIC-LOCATION:America/Toronto
BEGIN:DAYLIGHT
TZNAME:EDT
TZOFFSETFROM:-0500
TZOFFSETTO:-0400
DTSTART:20150308T070000
END:DAYLIGHT
BEGIN:STANDARD
TZNAME:EST
TZOFFSETFROM:-0400
TZOFFSETTO:-0500
DTSTART:20141102T060000
END:STANDARD
END:VTIMEZONE
BEGIN:VEVENT
UID:69ebe39fe5ffd
DTSTART;TZID=America/Toronto:20150728T103000
SEQUENCE:0
TRANSP:TRANSPARENT
DTEND;TZID=America/Toronto:20150728T103000
URL:https://uwaterloo.ca/applied-mathematics/events/graduate-student-semina
 r-daniel-otero-function-valued
SUMMARY:Graduate student seminar | Daniel Otero\, Function-valued mappings 
 and\nSSIM-based optimization: two alternative approaches to imaging
CLASS:PUBLIC
DESCRIPTION:M3 - 2134
DTSTAMP:20260424T214151Z
END:VEVENT
END:VCALENDAR