BEGIN:VCALENDAR
VERSION:2.0
PRODID:-//Drupal iCal API//EN
X-WR-CALNAME:Events items teaser
X-WR-TIMEZONE:America/Toronto
BEGIN:VTIMEZONE
TZID:America/Toronto
X-LIC-LOCATION:America/Toronto
BEGIN:DAYLIGHT
TZNAME:EDT
TZOFFSETFROM:-0500
TZOFFSETTO:-0400
DTSTART:20150308T070000
END:DAYLIGHT
BEGIN:STANDARD
TZNAME:EST
TZOFFSETFROM:-0400
TZOFFSETTO:-0500
DTSTART:20141102T060000
END:STANDARD
END:VTIMEZONE
BEGIN:VEVENT
UID:69ed74ae838c3
DTSTART;TZID=America/Toronto:20150903T100000
SEQUENCE:0
TRANSP:TRANSPARENT
DTEND;TZID=America/Toronto:20150903T100000
URL:https://uwaterloo.ca/applied-mathematics/events/masters-defense-jason-p
 ye-locality-information-bandlimited
SUMMARY:Master's Defense | Jason Pye\, Locality of Information in Bandlimit
 ed\nQuantum Field Theory
CLASS:PUBLIC
DESCRIPTION:MC 6496
DTSTAMP:20260426T021302Z
END:VEVENT
END:VCALENDAR