BEGIN:VCALENDAR
VERSION:2.0
PRODID:-//Drupal iCal API//EN
X-WR-CALNAME:Events items teaser
X-WR-TIMEZONE:America/Toronto
BEGIN:VTIMEZONE
TZID:America/Toronto
X-LIC-LOCATION:America/Toronto
BEGIN:DAYLIGHT
TZNAME:EDT
TZOFFSETFROM:-0500
TZOFFSETTO:-0400
DTSTART:20150308T070000
END:DAYLIGHT
BEGIN:STANDARD
TZNAME:EST
TZOFFSETFROM:-0400
TZOFFSETTO:-0500
DTSTART:20151101T060000
END:STANDARD
END:VTIMEZONE
BEGIN:VEVENT
UID:69ed43dbafbf7
DTSTART;TZID=America/Toronto:20151207T100000
SEQUENCE:0
TRANSP:TRANSPARENT
DTEND;TZID=America/Toronto:20151207T100000
URL:https://uwaterloo.ca/applied-mathematics/events/masters-defense-tian-qi
 ao-design-tubular-network-systems
SUMMARY:Master's Defense | Tian Qiao\, Design of Tubular Network Systems Us
 ing\nCircle Packing and Discrete Optimization
CLASS:PUBLIC
DESCRIPTION:MC 5479
DTSTAMP:20260425T224443Z
END:VEVENT
END:VCALENDAR