BEGIN:VCALENDAR
VERSION:2.0
PRODID:-//Drupal iCal API//EN
X-WR-CALNAME:Events items teaser
X-WR-TIMEZONE:America/Toronto
BEGIN:VTIMEZONE
TZID:America/Toronto
X-LIC-LOCATION:America/Toronto
BEGIN:DAYLIGHT
TZNAME:EDT
TZOFFSETFROM:-0500
TZOFFSETTO:-0400
DTSTART:20160313T070000
END:DAYLIGHT
BEGIN:STANDARD
TZNAME:EST
TZOFFSETFROM:-0400
TZOFFSETTO:-0500
DTSTART:20151101T060000
END:STANDARD
END:VTIMEZONE
BEGIN:VEVENT
UID:69ebe394e2c00
DTSTART;TZID=America/Toronto:20160707T150000
SEQUENCE:0
TRANSP:TRANSPARENT
DTEND;TZID=America/Toronto:20160707T150000
URL:https://uwaterloo.ca/applied-mathematics/events/grad-student-seminar-jo
 hn-lang-modelling-dynamics-body-mass
SUMMARY:Grad student seminar | John Lang\, Modelling the Dynamics of the Bo
 dy\nMass Index (BMI) at the Individual and Population Levels: Evidence for
 \nthe social spread of obesity
CLASS:PUBLIC
DESCRIPTION:MC 6460
DTSTAMP:20260424T214140Z
END:VEVENT
END:VCALENDAR