BEGIN:VCALENDAR
VERSION:2.0
PRODID:-//Drupal iCal API//EN
X-WR-CALNAME:Events items teaser
X-WR-TIMEZONE:America/Toronto
BEGIN:VTIMEZONE
TZID:America/Toronto
X-LIC-LOCATION:America/Toronto
BEGIN:DAYLIGHT
TZNAME:EDT
TZOFFSETFROM:-0500
TZOFFSETTO:-0400
DTSTART:20160313T070000
END:DAYLIGHT
BEGIN:STANDARD
TZNAME:EST
TZOFFSETFROM:-0400
TZOFFSETTO:-0500
DTSTART:20151101T060000
END:STANDARD
END:VTIMEZONE
BEGIN:VEVENT
UID:69ebe3a0719da
DTSTART;TZID=America/Toronto:20161007T133000
SEQUENCE:0
TRANSP:TRANSPARENT
DTEND;TZID=America/Toronto:20161007T133000
URL:https://uwaterloo.ca/applied-mathematics/events/grad-student-seminar-ya
 ngxin-he-time-stepping
SUMMARY:Grad student seminar | Yangxin He\, Time Stepping
CLASS:PUBLIC
DESCRIPTION:MC 5417
DTSTAMP:20260424T214152Z
END:VEVENT
END:VCALENDAR