BEGIN:VCALENDAR
VERSION:2.0
PRODID:-//Drupal iCal API//EN
X-WR-CALNAME:Events items teaser
X-WR-TIMEZONE:America/Toronto
BEGIN:VTIMEZONE
TZID:America/Toronto
X-LIC-LOCATION:America/Toronto
BEGIN:DAYLIGHT
TZNAME:EDT
TZOFFSETFROM:-0500
TZOFFSETTO:-0400
DTSTART:20160313T070000
END:DAYLIGHT
BEGIN:STANDARD
TZNAME:EST
TZOFFSETFROM:-0400
TZOFFSETTO:-0500
DTSTART:20161106T060000
END:STANDARD
END:VTIMEZONE
BEGIN:VEVENT
UID:69ecd1348fb9b
DTSTART;TZID=America/Toronto:20161214T130000
SEQUENCE:0
TRANSP:TRANSPARENT
DTEND;TZID=America/Toronto:20161214T130000
URL:https://uwaterloo.ca/applied-mathematics/events/masters-defense-lorena-
 cid-montiel-existence-and-uniqueness
SUMMARY:Master's Defense | Lorena Cid-Montiel\, Existence and uniqueness of
 \nattracting slow manifolds: An application of the Ważewski principle
CLASS:PUBLIC
DESCRIPTION:MC 5479
DTSTAMP:20260425T143532Z
END:VEVENT
END:VCALENDAR