BEGIN:VCALENDAR
VERSION:2.0
PRODID:-//Drupal iCal API//EN
X-WR-CALNAME:Events items teaser
X-WR-TIMEZONE:America/Toronto
BEGIN:VTIMEZONE
TZID:America/Toronto
X-LIC-LOCATION:America/Toronto
BEGIN:DAYLIGHT
TZNAME:EDT
TZOFFSETFROM:-0500
TZOFFSETTO:-0400
DTSTART:20160313T070000
END:DAYLIGHT
BEGIN:STANDARD
TZNAME:EST
TZOFFSETFROM:-0400
TZOFFSETTO:-0500
DTSTART:20161106T060000
END:STANDARD
END:VTIMEZONE
BEGIN:VEVENT
UID:69ed43e22fdec
DTSTART;TZID=America/Toronto:20170106T130000
SEQUENCE:0
TRANSP:TRANSPARENT
DTEND;TZID=America/Toronto:20170106T130000
URL:https://uwaterloo.ca/applied-mathematics/events/masters-defense-zhou-st
 ructured-reverse-mode-automatic
SUMMARY:Master's Defense | An Zhou\, Structured Reverse Mode Automatic\nDif
 ferentiation in Nested Monte Carlo Simulations
CLASS:PUBLIC
DESCRIPTION:MC 6460
DTSTAMP:20260425T224450Z
END:VEVENT
END:VCALENDAR