BEGIN:VCALENDAR
VERSION:2.0
PRODID:-//Drupal iCal API//EN
X-WR-CALNAME:Events items teaser
X-WR-TIMEZONE:America/Toronto
BEGIN:VTIMEZONE
TZID:America/Toronto
X-LIC-LOCATION:America/Toronto
BEGIN:DAYLIGHT
TZNAME:EDT
TZOFFSETFROM:-0500
TZOFFSETTO:-0400
DTSTART:20160313T070000
END:DAYLIGHT
BEGIN:STANDARD
TZNAME:EST
TZOFFSETFROM:-0400
TZOFFSETTO:-0500
DTSTART:20161106T060000
END:STANDARD
END:VTIMEZONE
BEGIN:VEVENT
UID:69ec2abee0084
DTSTART;TZID=America/Toronto:20170217T110000
SEQUENCE:0
TRANSP:TRANSPARENT
DTEND;TZID=America/Toronto:20170217T110000
URL:https://uwaterloo.ca/applied-mathematics/events/graduate-student-semina
 r-subasha-wickramarachchi-evolution
SUMMARY:Graduate Student Seminar | Subasha Wickramarachchi\, Evolution of t
 he\nvorticity and flow field generated by oscillatory flows over ripples\n
 at a quasi-steady state
CLASS:PUBLIC
DESCRIPTION:MC 5417
DTSTAMP:20260425T024518Z
END:VEVENT
END:VCALENDAR