BEGIN:VCALENDAR
VERSION:2.0
PRODID:-//Drupal iCal API//EN
X-WR-CALNAME:Events items teaser
X-WR-TIMEZONE:America/Toronto
BEGIN:VTIMEZONE
TZID:America/Toronto
X-LIC-LOCATION:America/Toronto
BEGIN:DAYLIGHT
TZNAME:EDT
TZOFFSETFROM:-0500
TZOFFSETTO:-0400
DTSTART:20170312T070000
END:DAYLIGHT
BEGIN:STANDARD
TZNAME:EST
TZOFFSETFROM:-0400
TZOFFSETTO:-0500
DTSTART:20161106T060000
END:STANDARD
END:VTIMEZONE
BEGIN:VEVENT
UID:69ed43c6aa5e0
DTSTART;TZID=America/Toronto:20170809T100000
SEQUENCE:0
TRANSP:TRANSPARENT
DTEND;TZID=America/Toronto:20170809T100000
URL:https://uwaterloo.ca/applied-mathematics/events/masters-defence-anthony
 -caterini-novel-mathematical
SUMMARY:Master's Defence | Anthony Caterini\, A Novel Mathematical Framewor
 k\nfor the Analysis of Neural Networks
CLASS:PUBLIC
DESCRIPTION:MC 6460[&lt;--break-&gt;]
DTSTAMP:20260425T224422Z
END:VEVENT
END:VCALENDAR