BEGIN:VCALENDAR
VERSION:2.0
PRODID:-//Drupal iCal API//EN
X-WR-CALNAME:Events items teaser
X-WR-TIMEZONE:America/Toronto
BEGIN:VTIMEZONE
TZID:America/Toronto
X-LIC-LOCATION:America/Toronto
BEGIN:DAYLIGHT
TZNAME:EDT
TZOFFSETFROM:-0500
TZOFFSETTO:-0400
DTSTART:20170312T070000
END:DAYLIGHT
BEGIN:STANDARD
TZNAME:EST
TZOFFSETFROM:-0400
TZOFFSETTO:-0500
DTSTART:20161106T060000
END:STANDARD
END:VTIMEZONE
BEGIN:VEVENT
UID:69ecd13a909f8
DTSTART;TZID=America/Toronto:20170906T100000
SEQUENCE:0
TRANSP:TRANSPARENT
DTEND;TZID=America/Toronto:20170906T100000
URL:https://uwaterloo.ca/applied-mathematics/events/masters-defence-hyungji
 n-kim-early-universe-new-aspects
SUMMARY:Master's Defence | Hyungjin Kim\, The Early Universe: New aspects o
 f\nCuscuton Theory\, Modified Dispersion Relations and Pulsar Constraints\
 non Vacuum Noise
CLASS:PUBLIC
DESCRIPTION:MC 5417[&lt;--break-&gt;][&lt;--break-&gt;][&lt;--break-&gt;]
DTSTAMP:20260425T143538Z
END:VEVENT
END:VCALENDAR