BEGIN:VCALENDAR
VERSION:2.0
PRODID:-//Drupal iCal API//EN
X-WR-CALNAME:Events items teaser
X-WR-TIMEZONE:America/Toronto
BEGIN:VTIMEZONE
TZID:America/Toronto
X-LIC-LOCATION:America/Toronto
BEGIN:DAYLIGHT
TZNAME:EDT
TZOFFSETFROM:-0500
TZOFFSETTO:-0400
DTSTART:20170312T070000
END:DAYLIGHT
BEGIN:STANDARD
TZNAME:EST
TZOFFSETFROM:-0400
TZOFFSETTO:-0500
DTSTART:20161106T060000
END:STANDARD
END:VTIMEZONE
BEGIN:VEVENT
UID:69eca26f40a71
DTSTART;TZID=America/Toronto:20170911T133000
SEQUENCE:0
TRANSP:TRANSPARENT
DTEND;TZID=America/Toronto:20170911T133000
URL:https://uwaterloo.ca/applied-mathematics/events/masters-defence-christi
 an-ogbonna-non-linear-interactions
SUMMARY:Master's Defence | Christian Ogbonna\, Non-linear Interactions betw
 een\nInternal Wave Beams: Beyond the Traditional Approximation
CLASS:PUBLIC
DESCRIPTION:MC 5417[&lt;--break-&gt;][&lt;--break-&gt;][&lt;--break-&gt;][&lt;--break-&gt;]
DTSTAMP:20260425T111559Z
END:VEVENT
END:VCALENDAR