BEGIN:VCALENDAR
VERSION:2.0
PRODID:-//Drupal iCal API//EN
X-WR-CALNAME:Events items teaser
X-WR-TIMEZONE:America/Toronto
BEGIN:VTIMEZONE
TZID:America/Toronto
X-LIC-LOCATION:America/Toronto
BEGIN:DAYLIGHT
TZNAME:EDT
TZOFFSETFROM:-0500
TZOFFSETTO:-0400
DTSTART:20170312T070000
END:DAYLIGHT
BEGIN:STANDARD
TZNAME:EST
TZOFFSETFROM:-0400
TZOFFSETTO:-0500
DTSTART:20171105T060000
END:STANDARD
END:VTIMEZONE
BEGIN:VEVENT
UID:69ecbdaef3b5d
DTSTART;TZID=America/Toronto:20180111T133000
SEQUENCE:0
TRANSP:TRANSPARENT
DTEND;TZID=America/Toronto:20180111T133000
URL:https://uwaterloo.ca/applied-mathematics/events/phd-comprehensive-semin
 ar-nathan-braniff-characterization
SUMMARY:PhD comprehensive seminar | Nathan Braniff\, Characterization of\n
 Biological Systems using Time-Varying Optogenetic Stimuli
CLASS:PUBLIC
DESCRIPTION:MC 5417
DTSTAMP:20260425T131215Z
END:VEVENT
END:VCALENDAR