BEGIN:VCALENDAR
VERSION:2.0
PRODID:-//Drupal iCal API//EN
X-WR-CALNAME:Events items teaser
X-WR-TIMEZONE:America/Toronto
BEGIN:VTIMEZONE
TZID:America/Toronto
X-LIC-LOCATION:America/Toronto
BEGIN:DAYLIGHT
TZNAME:EDT
TZOFFSETFROM:-0500
TZOFFSETTO:-0400
DTSTART:20180311T070000
END:DAYLIGHT
BEGIN:STANDARD
TZNAME:EST
TZOFFSETFROM:-0400
TZOFFSETTO:-0500
DTSTART:20171105T060000
END:STANDARD
END:VTIMEZONE
BEGIN:VEVENT
UID:69ebfb5b40073
DTSTART;TZID=America/Toronto:20180425T120000
SEQUENCE:0
TRANSP:TRANSPARENT
DTEND;TZID=America/Toronto:20180425T120000
URL:https://uwaterloo.ca/applied-mathematics/events/graduate-student-semina
 r-julian-rennert-poisson-lie-groups
SUMMARY:Graduate Student Seminar | Julian Rennert\, Poisson-Lie groups and\
 nquasi-Poisson spaces as semi-classical limits of (quasi-) Hopf\nalgebras
CLASS:PUBLIC
DESCRIPTION:M3 - 3103 _(Note this is M3 not MC)_
DTSTAMP:20260424T232307Z
END:VEVENT
END:VCALENDAR