BEGIN:VCALENDAR
VERSION:2.0
PRODID:-//Drupal iCal API//EN
X-WR-CALNAME:Events items teaser
X-WR-TIMEZONE:America/Toronto
BEGIN:VTIMEZONE
TZID:America/Toronto
X-LIC-LOCATION:America/Toronto
BEGIN:DAYLIGHT
TZNAME:EDT
TZOFFSETFROM:-0500
TZOFFSETTO:-0400
DTSTART:20180311T070000
END:DAYLIGHT
BEGIN:STANDARD
TZNAME:EST
TZOFFSETFROM:-0400
TZOFFSETTO:-0500
DTSTART:20171105T060000
END:STANDARD
END:VTIMEZONE
BEGIN:VEVENT
UID:69ebfb4eb5300
DTSTART;TZID=America/Toronto:20180423T113000
SEQUENCE:0
TRANSP:TRANSPARENT
DTEND;TZID=America/Toronto:20180423T113000
URL:https://uwaterloo.ca/applied-mathematics/events/graduate-student-semina
 r-julian-rennert-quasi-hopf-algebras
SUMMARY:Graduate Student Seminar | Julian Rennert\, (quasi-) Hopf algebras 
 and\ntheir origin in physics
CLASS:PUBLIC
DESCRIPTION:MC 5417
DTSTAMP:20260424T232254Z
END:VEVENT
END:VCALENDAR