BEGIN:VCALENDAR
VERSION:2.0
PRODID:-//Drupal iCal API//EN
X-WR-CALNAME:Events items teaser
X-WR-TIMEZONE:America/Toronto
BEGIN:VTIMEZONE
TZID:America/Toronto
X-LIC-LOCATION:America/Toronto
BEGIN:DAYLIGHT
TZNAME:EDT
TZOFFSETFROM:-0500
TZOFFSETTO:-0400
DTSTART:20180311T070000
END:DAYLIGHT
BEGIN:STANDARD
TZNAME:EST
TZOFFSETFROM:-0400
TZOFFSETTO:-0500
DTSTART:20171105T060000
END:STANDARD
END:VTIMEZONE
BEGIN:VEVENT
UID:69ec2aabda231
DTSTART;TZID=America/Toronto:20180430T113000
SEQUENCE:0
TRANSP:TRANSPARENT
DTEND;TZID=America/Toronto:20180430T113000
URL:https://uwaterloo.ca/applied-mathematics/events/graduate-student-semina
 r-julian-rennert-applications-quasi
SUMMARY:Graduate Student Seminar | Julian Rennert\, Applications of quasi-H
 opf\nsymmetries in 3D quantum gravity and condensed matter systems
CLASS:PUBLIC
DESCRIPTION:MC 6460
DTSTAMP:20260425T024459Z
END:VEVENT
END:VCALENDAR